BEGIN:VCALENDAR
VERSION:2.0
PRODID:-//demosphere.net//NONSGML kigkonsult.se iCalcreator 2.22.1//
METHOD:REQUEST
X-WR-TIMEZONE:Europe/Madrid
BEGIN:VEVENT
UID:https://safe.axendamazucu.org/evento/10151
DTSTAMP:20221021T170000Z
DESCRIPTION:más información aquí: https://safe.axendamazucu.org/evento/1015
 1
DTSTART:20221021T170000Z
DTEND:20221021T180000Z
GEO:+43.54012;-5.668148
LOCATION:Xixón/Gijón\, \nCasa Sindical Xixón\,C/Sanz Crespo\,3
SUMMARY:Entender la crisis. Organizar la respuesta
URL:https://safe.axendamazucu.org/evento/10151
END:VEVENT
END:VCALENDAR
