BEGIN:VCALENDAR
VERSION:2.0
PRODID:-//demosphere.net//NONSGML kigkonsult.se iCalcreator 2.22.1//
METHOD:REQUEST
X-WR-TIMEZONE:Europe/Madrid
BEGIN:VEVENT
UID:https://safe.axendamazucu.org/evento/10166
DTSTAMP:20221027T173000Z
DESCRIPTION:más información aquí: https://safe.axendamazucu.org/evento/1016
 6
DTSTART:20221027T173000Z
DTEND:20221027T183000Z
GEO:+43.35991;-5.84389
LOCATION:Uviéu/Oviedo\, \nCervecería La Raposa \nC/ Carpio 8-10 Bajo\, 3300
 9 Oviedo
SUMMARY:Presentación del fanzine “En Carne Viva” pola visibilidá de les per
 sones con TLP
URL:https://safe.axendamazucu.org/evento/10166
END:VEVENT
END:VCALENDAR
