BEGIN:VCALENDAR
VERSION:2.0
PRODID:-//demosphere.net//NONSGML kigkonsult.se iCalcreator 2.22.1//
METHOD:REQUEST
X-WR-TIMEZONE:Europe/Madrid
BEGIN:VEVENT
UID:https://safe.axendamazucu.org/evento/10186
DTSTAMP:20221105T173000Z
DESCRIPTION:más información aquí: https://safe.axendamazucu.org/evento/1018
 6
DTSTART:20221105T173000Z
DTEND:20221105T183000Z
GEO:+43.588312;-5.768384
LOCATION:Carreño\, \nCasa del Pueblo CNT Candás\,Avda.Reina María Cristina 
 24\,Candás
SUMMARY:Atención y cuidados.La dependencia a debate
URL:https://safe.axendamazucu.org/evento/10186
END:VEVENT
END:VCALENDAR
