BEGIN:VCALENDAR
VERSION:2.0
PRODID:-//demosphere.net//NONSGML kigkonsult.se iCalcreator 2.22.1//
METHOD:REQUEST
X-WR-TIMEZONE:Europe/Madrid
BEGIN:VEVENT
UID:https://safe.axendamazucu.org/evento/1027
DTSTAMP:20140606T180000Z
DESCRIPTION:más información aquí: https://safe.axendamazucu.org/evento/1027
DTSTART:20140606T180000Z
DTEND:20140606T190000Z
GEO:+43.54012;-5.668148
LOCATION:Xixón/Gijón\, \nLlocal Sindical CSI\,Casa Sindical Xixón\,C/Sanz C
 respo\,3
SUMMARY:Charra:'Municipalismo y xunidá popular'.La esperiencia de la CUP
URL:https://safe.axendamazucu.org/evento/1027
END:VEVENT
END:VCALENDAR
