BEGIN:VCALENDAR
VERSION:2.0
PRODID:-//demosphere.net//NONSGML kigkonsult.se iCalcreator 2.22.1//
METHOD:REQUEST
X-WR-TIMEZONE:Europe/Madrid
BEGIN:VEVENT
UID:https://safe.axendamazucu.org/evento/10378
DTSTAMP:20221222T180000Z
DESCRIPTION:más información aquí: https://safe.axendamazucu.org/evento/1037
 8
DTSTART:20221222T180000Z
DTEND:20221222T190000Z
GEO:+43.310917;-5.688894
LOCATION:Llangreu\, \nC.S.A. La Xusticia \nC/Valentín Ochoa 5\,La Felguera
SUMMARY:Presentación del álbum ¿Por qué los pájaros no tienen rey?
URL:https://safe.axendamazucu.org/evento/10378
END:VEVENT
END:VCALENDAR
