BEGIN:VCALENDAR
VERSION:2.0
PRODID:-//demosphere.net//NONSGML kigkonsult.se iCalcreator 2.22.1//
METHOD:REQUEST
X-WR-TIMEZONE:Europe/Madrid
BEGIN:VEVENT
UID:https://safe.axendamazucu.org/evento/1039
DTSTAMP:20140616T170000Z
DESCRIPTION:más información aquí: https://safe.axendamazucu.org/evento/1039
DTSTART:20140616T170000Z
DTEND:20140616T180000Z
GEO:+43.54012;-5.668148
LOCATION:Xixón/Gijón\, \nCasa Sindical Xixón\,C/Sanz Crespo\,3
SUMMARY:Charra sobre Inmigración: Nativa o extranjera\, la misma clase obre
 ra
URL:https://safe.axendamazucu.org/evento/1039
END:VEVENT
END:VCALENDAR
