BEGIN:VCALENDAR
VERSION:2.0
PRODID:-//demosphere.net//NONSGML kigkonsult.se iCalcreator 2.22.1//
METHOD:REQUEST
X-WR-TIMEZONE:Europe/Madrid
BEGIN:VEVENT
UID:https://safe.axendamazucu.org/evento/10496
DTSTAMP:20230218T113000Z
DESCRIPTION:más información aquí: https://safe.axendamazucu.org/evento/1049
 6
DTSTART:20230218T113000Z
DTEND:20230218T123000Z
GEO:+43.35991;-5.84389
LOCATION:Uviéu/Oviedo\, \nCervecería La Raposa \nC/ Carpio 8-10 Bajo\, 3300
 9 Oviedo
SUMMARY:Taller de escobas feministas
URL:https://safe.axendamazucu.org/evento/10496
END:VEVENT
END:VCALENDAR
