BEGIN:VCALENDAR
VERSION:2.0
PRODID:-//demosphere.net//NONSGML kigkonsult.se iCalcreator 2.22.1//
METHOD:REQUEST
X-WR-TIMEZONE:Europe/Madrid
BEGIN:VEVENT
UID:https://safe.axendamazucu.org/evento/10521
DTSTAMP:20230223T163000Z
DESCRIPTION:más información aquí: https://safe.axendamazucu.org/evento/1052
 1
DTSTART:20230223T163000Z
DTEND:20230223T173000Z
GEO:+43.54012;-5.668148
LOCATION:Xixón/Gijón\, \nCasa Sindical Xixón\,C/Sanz Crespo\,3
SUMMARY:Preparando el 8M.Taller de broches
URL:https://safe.axendamazucu.org/evento/10521
END:VEVENT
END:VCALENDAR
