BEGIN:VCALENDAR
VERSION:2.0
PRODID:-//demosphere.net//NONSGML kigkonsult.se iCalcreator 2.22.1//
METHOD:REQUEST
X-WR-TIMEZONE:Europe/Madrid
BEGIN:VEVENT
UID:https://safe.axendamazucu.org/evento/10594
DTSTAMP:20230315T180000Z
DESCRIPTION:más información aquí: https://safe.axendamazucu.org/evento/1059
 4
DTSTART:20230315T180000Z
DTEND:20230315T190000Z
GEO:+43.539134;-5.657905
LOCATION:Xixón/Gijón\, \nLa habitación propia \nCelestino Junquera\, 1\, 33
 202 Xixón
SUMMARY:Taller de bordado sobre fotografía
URL:https://safe.axendamazucu.org/evento/10594
END:VEVENT
END:VCALENDAR
