BEGIN:VCALENDAR
VERSION:2.0
PRODID:-//demosphere.net//NONSGML kigkonsult.se iCalcreator 2.22.1//
METHOD:REQUEST
X-WR-TIMEZONE:Europe/Madrid
BEGIN:VEVENT
UID:https://safe.axendamazucu.org/evento/10720
DTSTAMP:20230422T103000Z
DESCRIPTION:más información aquí: https://safe.axendamazucu.org/evento/1072
 0
DTSTART:20230422T103000Z
DTEND:20230422T113000Z
GEO:+43.588312;-5.768384
LOCATION:Carreño\, \nCasa del Pueblo CNT Candás\,Avda.Reina María Cristina 
 24\,Candás
SUMMARY:'Gijón 1936.Diario de una Revolución'. Presentación del libro a car
 go de su autor
URL:https://safe.axendamazucu.org/evento/10720
END:VEVENT
END:VCALENDAR
