BEGIN:VCALENDAR
VERSION:2.0
PRODID:-//demosphere.net//NONSGML kigkonsult.se iCalcreator 2.22.1//
METHOD:REQUEST
X-WR-TIMEZONE:Europe/Madrid
BEGIN:VEVENT
UID:https://safe.axendamazucu.org/evento/10780
DTSTAMP:20230501T100000Z
DESCRIPTION:más información aquí: https://safe.axendamazucu.org/evento/1078
 0
DTSTART:20230501T100000Z
DTEND:20230501T110000Z
GEO:+43.54012;-5.668148
LOCATION:Xixón/Gijón\, \nCasa Sindical Xixón\,C/Sanz Crespo\,3
SUMMARY:Manifestación Primeru de Mayu.CGT-CNT-CSI-SUATEA
URL:https://safe.axendamazucu.org/evento/10780
END:VEVENT
END:VCALENDAR
