BEGIN:VCALENDAR
VERSION:2.0
PRODID:-//demosphere.net//NONSGML kigkonsult.se iCalcreator 2.22.1//
METHOD:REQUEST
X-WR-TIMEZONE:Europe/Madrid
BEGIN:VEVENT
UID:https://safe.axendamazucu.org/evento/10811
DTSTAMP:20230513T183000Z
DESCRIPTION:más información aquí: https://safe.axendamazucu.org/evento/1081
 1
DTSTART:20230513T183000Z
DTEND:20230513T193000Z
GEO:+43.539134;-5.657905
LOCATION:Xixón/Gijón\, \nLa habitación propia \nCelestino Junquera\, 1\, 33
 202 Xixón
SUMMARY:Geberovich-Klainer en concierto
URL:https://safe.axendamazucu.org/evento/10811
END:VEVENT
END:VCALENDAR
