BEGIN:VCALENDAR
VERSION:2.0
PRODID:-//demosphere.net//NONSGML kigkonsult.se iCalcreator 2.22.1//
METHOD:REQUEST
X-WR-TIMEZONE:Europe/Madrid
BEGIN:VEVENT
UID:https://safe.axendamazucu.org/evento/11014
DTSTAMP:20230707T170000Z
DESCRIPTION:más información aquí: https://safe.axendamazucu.org/evento/1101
 4
DTSTART:20230707T170000Z
DTEND:20230707T180000Z
GEO:+43.588312;-5.768384
LOCATION:Carreño\, \nCasa del Pueblo CNT Candás\,Avda.Reina María Cristina 
 24\,Candás
SUMMARY:Charla de denuncia sobre siniestralidad laboral
URL:https://safe.axendamazucu.org/evento/11014
END:VEVENT
END:VCALENDAR
