BEGIN:VCALENDAR
VERSION:2.0
PRODID:-//demosphere.net//NONSGML kigkonsult.se iCalcreator 2.22.1//
METHOD:REQUEST
X-WR-TIMEZONE:Europe/Madrid
BEGIN:VEVENT
UID:https://safe.axendamazucu.org/evento/11023
DTSTAMP:20230710T160000Z
DESCRIPTION:más información aquí: https://safe.axendamazucu.org/evento/1102
 3
DTSTART:20230710T160000Z
DTEND:20230710T170000Z
GEO:+43.54012;-5.668148
LOCATION:Xixón/Gijón\, \nCasa Sindical Xixón\,C/Sanz Crespo\,3
SUMMARY:Asamblea Plataforma Ciudadana de Gijón.Ni un paso atrás
URL:https://safe.axendamazucu.org/evento/11023
END:VEVENT
END:VCALENDAR
