BEGIN:VCALENDAR
VERSION:2.0
PRODID:-//demosphere.net//NONSGML kigkonsult.se iCalcreator 2.22.1//
METHOD:REQUEST
X-WR-TIMEZONE:Europe/Madrid
BEGIN:VEVENT
UID:https://safe.axendamazucu.org/evento/11150
DTSTAMP:20230923T160000Z
DESCRIPTION:más información aquí: https://safe.axendamazucu.org/evento/1115
 0
DTSTART:20230923T160000Z
DTEND:20230923T170000Z
GEO:+43.310917;-5.688894
LOCATION:Llangreu\, \nC.S.A. La Xusticia \nC/Valentín Ochoa 5\,La Felguera
SUMMARY:Presentación de la traducción al asturianu de 'Guillem'
URL:https://safe.axendamazucu.org/evento/11150
END:VEVENT
END:VCALENDAR
