BEGIN:VCALENDAR
VERSION:2.0
PRODID:-//demosphere.net//NONSGML kigkonsult.se iCalcreator 2.22.1//
METHOD:REQUEST
X-WR-TIMEZONE:Europe/Madrid
BEGIN:VEVENT
UID:https://safe.axendamazucu.org/evento/11228
DTSTAMP:20231027T190000Z
DESCRIPTION:más información aquí: https://safe.axendamazucu.org/evento/1122
 8
DTSTART:20231027T190000Z
DTEND:20231027T200000Z
GEO:+43.35991;-5.84389
LOCATION:Uviéu/Oviedo\, \nCervecería La Raposa \nC/ Carpio 8-10 Bajo\, 3300
 9 Oviedo
SUMMARY:Fiesta pre aniversariu de La Raposa.Pinchada de Noise for the boys
URL:https://safe.axendamazucu.org/evento/11228
END:VEVENT
END:VCALENDAR
