BEGIN:VCALENDAR
VERSION:2.0
PRODID:-//demosphere.net//NONSGML kigkonsult.se iCalcreator 2.22.1//
METHOD:REQUEST
X-WR-TIMEZONE:Europe/Madrid
BEGIN:VEVENT
UID:https://safe.axendamazucu.org/evento/11230
DTSTAMP:20231031T200000Z
DESCRIPTION:más información aquí: https://safe.axendamazucu.org/evento/1123
 0
DTSTART:20231031T200000Z
DTEND:20231031T210000Z
GEO:+43.35991;-5.84389
LOCATION:Uviéu/Oviedo\, \nCervecería La Raposa \nC/ Carpio 8-10 Bajo\, 3300
 9 Oviedo
SUMMARY:Aniversariu de La Raposa.Nueche d'animes
URL:https://safe.axendamazucu.org/evento/11230
END:VEVENT
END:VCALENDAR
