BEGIN:VCALENDAR
VERSION:2.0
PRODID:-//demosphere.net//NONSGML kigkonsult.se iCalcreator 2.22.1//
METHOD:REQUEST
X-WR-TIMEZONE:Europe/Madrid
BEGIN:VEVENT
UID:https://safe.axendamazucu.org/evento/11667
DTSTAMP:20240228T153000Z
DESCRIPTION:más información aquí: https://safe.axendamazucu.org/evento/1166
 7
DTSTART:20240228T153000Z
DTEND:20240228T163000Z
GEO:+43.54012;-5.668148
LOCATION:Xixón/Gijón\, \nCasa Sindical Xixón\,C/Sanz Crespo\,3
SUMMARY:Taller feminista colaborativo de broches y colgantes
URL:https://safe.axendamazucu.org/evento/11667
END:VEVENT
END:VCALENDAR
