BEGIN:VCALENDAR
VERSION:2.0
PRODID:-//demosphere.net//NONSGML kigkonsult.se iCalcreator 2.22.1//
METHOD:REQUEST
X-WR-TIMEZONE:Europe/Madrid
BEGIN:VEVENT
UID:https://safe.axendamazucu.org/evento/11726
DTSTAMP:20240319T180000Z
DESCRIPTION:más información aquí: https://safe.axendamazucu.org/evento/1172
 6
DTSTART:20240319T180000Z
DTEND:20240319T190000Z
GEO:+43.3603;-5.84338
LOCATION:Oviedo\, \nEl Olivar: C/ Oscura\, nº 1/3 - Oviedo (Asturias)
SUMMARY:Talleres de informática libre de PicaHack: Presentación de los Pica
 Talleres Primavera 2024
URL:https://safe.axendamazucu.org/evento/11726
END:VEVENT
END:VCALENDAR
