BEGIN:VCALENDAR
VERSION:2.0
PRODID:-//demosphere.net//NONSGML kigkonsult.se iCalcreator 2.22.1//
METHOD:REQUEST
X-WR-TIMEZONE:Europe/Madrid
BEGIN:VEVENT
UID:https://safe.axendamazucu.org/evento/11728
DTSTAMP:20240402T170000Z
DESCRIPTION:más información aquí: https://safe.axendamazucu.org/evento/1172
 8
DTSTART:20240402T170000Z
DTEND:20240402T180000Z
GEO:+43.3603;-5.84338
LOCATION:Oviedo\, \nEl Olivar: C/ Oscura\, nº 1/3 - Oviedo (Asturias)
SUMMARY:Talleres de informática libre de PicaHack: Curso de introducción a 
 la línea de comandos
URL:https://safe.axendamazucu.org/evento/11728
END:VEVENT
END:VCALENDAR
