BEGIN:VCALENDAR
VERSION:2.0
PRODID:-//demosphere.net//NONSGML kigkonsult.se iCalcreator 2.22.1//
METHOD:REQUEST
X-WR-TIMEZONE:Europe/Madrid
BEGIN:VEVENT
UID:https://safe.axendamazucu.org/evento/11731
DTSTAMP:20240427T090000Z
DESCRIPTION:más información aquí: https://safe.axendamazucu.org/evento/1173
 1
DTSTART:20240427T090000Z
DTEND:20240427T100000Z
GEO:+43.3603;-5.84338
LOCATION:Oviedo\, \nEl Olivar: C/ Oscura\, nº 1/3 - Oviedo (Asturias)
SUMMARY:Talleres de informática libre de PicaHack: Instalación de sistemas 
 operativos libres
URL:https://safe.axendamazucu.org/evento/11731
END:VEVENT
END:VCALENDAR
