BEGIN:VCALENDAR
VERSION:2.0
PRODID:-//demosphere.net//NONSGML kigkonsult.se iCalcreator 2.22.1//
METHOD:REQUEST
X-WR-TIMEZONE:Europe/Madrid
BEGIN:VEVENT
UID:https://safe.axendamazucu.org/evento/11732
DTSTAMP:20240514T170000Z
DESCRIPTION:más información aquí: https://safe.axendamazucu.org/evento/1173
 2
DTSTART:20240514T170000Z
DTEND:20240514T180000Z
GEO:+43.3603;-5.84338
LOCATION:Oviedo\, \nEl Olivar: C/ Oscura\, nº 1/3 - Oviedo (Asturias)
SUMMARY:Talleres de informática libre de PicaHack: Iniciación a sistemas de
  información geográfica
URL:https://safe.axendamazucu.org/evento/11732
END:VEVENT
END:VCALENDAR
