BEGIN:VCALENDAR
VERSION:2.0
PRODID:-//demosphere.net//NONSGML kigkonsult.se iCalcreator 2.22.1//
METHOD:REQUEST
X-WR-TIMEZONE:Europe/Madrid
BEGIN:VEVENT
UID:https://safe.axendamazucu.org/evento/11818
DTSTAMP:20240419T163000Z
DESCRIPTION:más información aquí: https://safe.axendamazucu.org/evento/1181
 8
DTSTART:20240419T163000Z
DTEND:20240419T173000Z
GEO:+43.54012;-5.668148
LOCATION:Xixón/Gijón\, \nCasa Sindical Xixón\,C/Sanz Crespo\,3
SUMMARY:Presentación del llibru 'El pesu la llibertá(Insumisa)'
URL:https://safe.axendamazucu.org/evento/11818
END:VEVENT
END:VCALENDAR
