BEGIN:VCALENDAR
VERSION:2.0
PRODID:-//demosphere.net//NONSGML kigkonsult.se iCalcreator 2.22.1//
METHOD:REQUEST
X-WR-TIMEZONE:Europe/Madrid
BEGIN:VEVENT
UID:https://safe.axendamazucu.org/evento/11942
DTSTAMP:20240615T100000Z
DESCRIPTION:más información aquí: https://safe.axendamazucu.org/evento/1194
 2
DTSTART:20240615T100000Z
DTEND:20240615T110000Z
GEO:+43.54012;-5.668148
LOCATION:Xixón/Gijón\, \nCasa Sindical Xixón\,C/Sanz Crespo\,3
SUMMARY:Manifestación por la libertad de Las 6 de la Suiza
URL:https://safe.axendamazucu.org/evento/11942
END:VEVENT
END:VCALENDAR
