BEGIN:VCALENDAR
VERSION:2.0
PRODID:-//demosphere.net//NONSGML kigkonsult.se iCalcreator 2.22.1//
METHOD:REQUEST
X-WR-TIMEZONE:Europe/Madrid
BEGIN:VEVENT
UID:https://safe.axendamazucu.org/evento/12120
DTSTAMP:20240709T170000Z
DESCRIPTION:más información aquí: https://safe.axendamazucu.org/evento/1212
 0
DTSTART:20240709T170000Z
DTEND:20240709T180000Z
GEO:+43.3603;-5.84338
LOCATION:Oviedo\, \nEl Olivar: C/ Oscura\, nº 1/3 - Oviedo (Asturias)
SUMMARY:Un ordenador por dentro: componentes físicos de los ordenadores
URL:https://safe.axendamazucu.org/evento/12120
END:VEVENT
END:VCALENDAR
