BEGIN:VCALENDAR
VERSION:2.0
PRODID:-//demosphere.net//NONSGML kigkonsult.se iCalcreator 2.22.1//
METHOD:REQUEST
X-WR-TIMEZONE:Europe/Madrid
BEGIN:VEVENT
UID:https://safe.axendamazucu.org/evento/12212
DTSTAMP:20240908T110000Z
DESCRIPTION:más información aquí: https://safe.axendamazucu.org/evento/1221
 2
DTSTART:20240908T110000Z
DTEND:20240908T120000Z
GEO:+43.369835;-5.851893
LOCATION:Uviéu/Oviedo\, \nKuivi Almacenes\, \nC/Almacenes industriales\, 40
 \, Uviéu
SUMMARY:8 Setiembre.Realidá moza na folixa d'Asturies
URL:https://safe.axendamazucu.org/evento/12212
END:VEVENT
END:VCALENDAR
