BEGIN:VCALENDAR
VERSION:2.0
PRODID:-//demosphere.net//NONSGML kigkonsult.se iCalcreator 2.22.1//
METHOD:REQUEST
X-WR-TIMEZONE:Europe/Madrid
BEGIN:VEVENT
UID:https://safe.axendamazucu.org/evento/12266
DTSTAMP:20240928T163000Z
DESCRIPTION:más información aquí: https://safe.axendamazucu.org/evento/1226
 6
DTSTART:20240928T163000Z
DTEND:20240928T173000Z
GEO:+43.588312;-5.768384
LOCATION:Carreño\, \nCasa del Pueblo CNT Candás\,Avda.Reina María Cristina 
 24\,Candás
SUMMARY:Jornadas de memoria de CNT Candás.Presentación jornadas y proyecció
 n de 'Casas Viejas'
URL:https://safe.axendamazucu.org/evento/12266
END:VEVENT
END:VCALENDAR
