BEGIN:VCALENDAR
VERSION:2.0
PRODID:-//demosphere.net//NONSGML kigkonsult.se iCalcreator 2.22.1//
METHOD:REQUEST
X-WR-TIMEZONE:Europe/Madrid
BEGIN:VEVENT
UID:https://safe.axendamazucu.org/evento/12280
DTSTAMP:20241005T170000Z
DESCRIPTION:más información aquí: https://safe.axendamazucu.org/evento/1228
 0
DTSTART:20241005T170000Z
DTEND:20241005T180000Z
GEO:+43.588312;-5.768384
LOCATION:Carreño\, \nCasa del Pueblo CNT Candás\,Avda.Reina María Cristina 
 24\,Candás
SUMMARY:Jornadas Memoria Viva de CNT Candás. 'El 34 asturiano'
URL:https://safe.axendamazucu.org/evento/12280
END:VEVENT
END:VCALENDAR
