BEGIN:VCALENDAR
VERSION:2.0
PRODID:-//demosphere.net//NONSGML kigkonsult.se iCalcreator 2.22.1//
METHOD:REQUEST
X-WR-TIMEZONE:Europe/Madrid
BEGIN:VEVENT
UID:https://safe.axendamazucu.org/evento/12339
DTSTAMP:20241105T173000Z
DESCRIPTION:más información aquí: https://safe.axendamazucu.org/evento/1233
 9
DTSTART:20241105T173000Z
DTEND:20241105T183000Z
GEO:+43.588312;-5.768384
LOCATION:Carreño\, \nCasa del Pueblo CNT Candás\,Avda.Reina María Cristina 
 24\,Candás
SUMMARY:Proyección de la película documental 'Vidas irrenovables.Naturaleza
  o miseria'
URL:https://safe.axendamazucu.org/evento/12339
END:VEVENT
END:VCALENDAR
