BEGIN:VCALENDAR
VERSION:2.0
PRODID:-//demosphere.net//NONSGML kigkonsult.se iCalcreator 2.22.1//
METHOD:REQUEST
X-WR-TIMEZONE:Europe/Madrid
BEGIN:VEVENT
UID:https://safe.axendamazucu.org/evento/12345
DTSTAMP:20241012T100000Z
DESCRIPTION:más información aquí: https://safe.axendamazucu.org/evento/1234
 5
DTSTART:20241012T100000Z
DTEND:20241012T110000Z
GEO:+43.588312;-5.768384
LOCATION:Carreño\, \nCasa del Pueblo CNT Candás\,Avda.Reina María Cristina 
 24\,Candás
SUMMARY:Jornadas Memoria Viva.Charla:'Octubre del 37.El precio de la derrot
 a'
URL:https://safe.axendamazucu.org/evento/12345
END:VEVENT
END:VCALENDAR
