BEGIN:VCALENDAR
VERSION:2.0
PRODID:-//demosphere.net//NONSGML kigkonsult.se iCalcreator 2.22.1//
METHOD:REQUEST
X-WR-TIMEZONE:Europe/Madrid
BEGIN:VEVENT
UID:https://safe.axendamazucu.org/evento/12375
DTSTAMP:20241020T163000Z
DESCRIPTION:más información aquí: https://safe.axendamazucu.org/evento/1237
 5
DTSTART:20241020T163000Z
DTEND:20241020T173000Z
GEO:+43.588312;-5.768384
LOCATION:Carreño\, \nCasa del Pueblo CNT Candás\,Avda.Reina María Cristina 
 24\,Candás
SUMMARY:Representación artística de la evacuación del 20/10/1937 en el muel
 le de Candás
URL:https://safe.axendamazucu.org/evento/12375
END:VEVENT
END:VCALENDAR
