BEGIN:VCALENDAR
VERSION:2.0
PRODID:-//demosphere.net//NONSGML kigkonsult.se iCalcreator 2.22.1//
METHOD:REQUEST
X-WR-TIMEZONE:Europe/Madrid
BEGIN:VEVENT
UID:https://safe.axendamazucu.org/evento/12379
DTSTAMP:20241031T180000Z
DESCRIPTION:más información aquí: https://safe.axendamazucu.org/evento/1237
 9
DTSTART:20241031T180000Z
DTEND:20241031T190000Z
GEO:+43.539134;-5.657905
LOCATION:Xixón/Gijón\, \nLa habitación propia \nCelestino Junquera\, 1\, 33
 202 Xixón
SUMMARY:Presentación del libro 'Autodefensa feminista'\, de la autora Maite
 na Monroy
URL:https://safe.axendamazucu.org/evento/12379
END:VEVENT
END:VCALENDAR
