BEGIN:VCALENDAR
VERSION:2.0
PRODID:-//demosphere.net//NONSGML kigkonsult.se iCalcreator 2.22.1//
METHOD:REQUEST
X-WR-TIMEZONE:Europe/Madrid
BEGIN:VEVENT
UID:https://safe.axendamazucu.org/evento/12393
DTSTAMP:20241029T180000Z
DESCRIPTION:más información aquí: https://safe.axendamazucu.org/evento/1239
 3
DTSTART:20241029T180000Z
DTEND:20241029T190000Z
GEO:+43.3603;-5.84338
LOCATION:Oviedo\, \nEl Olivar: C/ Oscura\, nº 1/3 - Oviedo (Asturias)
SUMMARY:Proyección y debate del documental 'Nada que esconder'
URL:https://safe.axendamazucu.org/evento/12393
END:VEVENT
END:VCALENDAR
