BEGIN:VCALENDAR
VERSION:2.0
PRODID:-//demosphere.net//NONSGML kigkonsult.se iCalcreator 2.22.1//
METHOD:REQUEST
X-WR-TIMEZONE:Europe/Madrid
BEGIN:VEVENT
UID:https://safe.axendamazucu.org/evento/12407
DTSTAMP:20241108T180000Z
DESCRIPTION:más información aquí: https://safe.axendamazucu.org/evento/1240
 7
DTSTART:20241108T180000Z
DTEND:20241108T190000Z
GEO:+43.54012;-5.668148
LOCATION:Xixón/Gijón\, \nCasa Sindical Xixón\,C/Sanz Crespo\,3
SUMMARY:Conferencia 'Palestina:Heredar el futuro'
URL:https://safe.axendamazucu.org/evento/12407
END:VEVENT
END:VCALENDAR
