BEGIN:VCALENDAR
VERSION:2.0
PRODID:-//demosphere.net//NONSGML kigkonsult.se iCalcreator 2.22.1//
METHOD:REQUEST
X-WR-TIMEZONE:Europe/Madrid
BEGIN:VEVENT
UID:https://safe.axendamazucu.org/evento/12461
DTSTAMP:20241122T170000Z
DESCRIPTION:más información aquí: https://safe.axendamazucu.org/evento/1246
 1
DTSTART:20241122T170000Z
DTEND:20241122T180000Z
GEO:+43.54012;-5.668148
LOCATION:Xixón/Gijón\, \nCasa Sindical Xixón\,C/Sanz Crespo\,3
SUMMARY:¡¡SUSPENDIDA!! Conferencia 'La situación en Oriente Próximo:Resiste
 ncia y....'
URL:https://safe.axendamazucu.org/evento/12461
END:VEVENT
END:VCALENDAR
