BEGIN:VCALENDAR
VERSION:2.0
PRODID:-//demosphere.net//NONSGML kigkonsult.se iCalcreator 2.22.1//
METHOD:REQUEST
X-WR-TIMEZONE:Europe/Madrid
BEGIN:VEVENT
UID:https://safe.axendamazucu.org/evento/12473
DTSTAMP:20241201T113000Z
DESCRIPTION:más información aquí: https://safe.axendamazucu.org/evento/1247
 3
DTSTART:20241201T113000Z
DTEND:20241201T123000Z
GEO:+43.539134;-5.657905
LOCATION:Xixón/Gijón\, \nLa habitación propia \nCelestino Junquera\, 1\, 33
 202 Xixón
SUMMARY:Presentación del libro 'El mito de la violación'\, vermú con su aut
 ora
URL:https://safe.axendamazucu.org/evento/12473
END:VEVENT
END:VCALENDAR
