BEGIN:VCALENDAR
VERSION:2.0
PRODID:-//demosphere.net//NONSGML kigkonsult.se iCalcreator 2.22.1//
METHOD:REQUEST
X-WR-TIMEZONE:Europe/Madrid
BEGIN:VEVENT
UID:https://safe.axendamazucu.org/evento/12511
DTSTAMP:20241205T173000Z
DESCRIPTION:más información aquí: https://safe.axendamazucu.org/evento/1251
 1
DTSTART:20241205T173000Z
DTEND:20241205T183000Z
GEO:+43.54012;-5.668148
LOCATION:Xixón/Gijón\, \nCasa Sindical Xixón\,C/Sanz Crespo\,3
SUMMARY:Sindicalismo\, organización y lucha por la vivienda 
URL:https://safe.axendamazucu.org/evento/12511
END:VEVENT
END:VCALENDAR
