BEGIN:VCALENDAR
VERSION:2.0
PRODID:-//demosphere.net//NONSGML kigkonsult.se iCalcreator 2.22.1//
METHOD:REQUEST
X-WR-TIMEZONE:Europe/Madrid
BEGIN:VEVENT
UID:https://safe.axendamazucu.org/evento/12516
DTSTAMP:20241210T180000Z
DESCRIPTION:más información aquí: https://safe.axendamazucu.org/evento/1251
 6
DTSTART:20241210T180000Z
DTEND:20241210T190000Z
GEO:+43.3603;-5.84338
LOCATION:Oviedo\, \nEl Olivar: C/ Oscura\, nº 1/3 - Oviedo (Asturias)
SUMMARY:Instalación de un sistema operativo libre
URL:https://safe.axendamazucu.org/evento/12516
END:VEVENT
END:VCALENDAR
