BEGIN:VCALENDAR
VERSION:2.0
PRODID:-//demosphere.net//NONSGML kigkonsult.se iCalcreator 2.22.1//
METHOD:REQUEST
X-WR-TIMEZONE:Europe/Madrid
BEGIN:VEVENT
UID:https://safe.axendamazucu.org/evento/12600
DTSTAMP:20250114T180000Z
DESCRIPTION:más información aquí: https://safe.axendamazucu.org/evento/1260
 0
DTSTART:20250114T180000Z
DTEND:20250114T190000Z
GEO:+43.3603;-5.84338
LOCATION:Oviedo\, \nEl Olivar: C/ Oscura\, nº 1/3 - Oviedo (Asturias)
SUMMARY:Proyección y debate del documental 'Comprar\, tirar\, comprar'
URL:https://safe.axendamazucu.org/evento/12600
END:VEVENT
END:VCALENDAR
