BEGIN:VCALENDAR
VERSION:2.0
PRODID:-//demosphere.net//NONSGML kigkonsult.se iCalcreator 2.22.1//
METHOD:REQUEST
X-WR-TIMEZONE:Europe/Madrid
BEGIN:VEVENT
UID:https://safe.axendamazucu.org/evento/12602
DTSTAMP:20250311T180000Z
DESCRIPTION:más información aquí: https://safe.axendamazucu.org/evento/1260
 2
DTSTART:20250311T180000Z
DTEND:20250311T190000Z
GEO:+43.3603;-5.84338
LOCATION:Oviedo\, \nEl Olivar: C/ Oscura\, nº 1/3 - Oviedo (Asturias)
SUMMARY:Proyección y debate del documental 'La Historia de las Cosas'
URL:https://safe.axendamazucu.org/evento/12602
END:VEVENT
END:VCALENDAR
