BEGIN:VCALENDAR
VERSION:2.0
PRODID:-//demosphere.net//NONSGML kigkonsult.se iCalcreator 2.22.1//
METHOD:REQUEST
X-WR-TIMEZONE:Europe/Madrid
BEGIN:VEVENT
UID:https://safe.axendamazucu.org/evento/12731
DTSTAMP:20250218T160000Z
DESCRIPTION:más información aquí: https://safe.axendamazucu.org/evento/1273
 1
DTSTART:20250218T160000Z
DTEND:20250218T170000Z
GEO:+43.54012;-5.668148
LOCATION:Xixón/Gijón\, \nCasa Sindical Xixón\,C/Sanz Crespo\,3
SUMMARY:Semana de acciones rumbo al 8M. Taller de Broches
URL:https://safe.axendamazucu.org/evento/12731
END:VEVENT
END:VCALENDAR
