BEGIN:VCALENDAR
VERSION:2.0
PRODID:-//demosphere.net//NONSGML kigkonsult.se iCalcreator 2.22.1//
METHOD:REQUEST
X-WR-TIMEZONE:Europe/Madrid
BEGIN:VEVENT
UID:https://safe.axendamazucu.org/evento/12817
DTSTAMP:20250308T200000Z
DESCRIPTION:más información aquí: https://safe.axendamazucu.org/evento/1281
 7
DTSTART:20250308T200000Z
DTEND:20250308T210000Z
GEO:+43.369835;-5.851893
LOCATION:Uviéu/Oviedo\, \nKuivi Almacenes\, \nC/Almacenes industriales\, 40
 \, Uviéu
SUMMARY:Concierto Pifia de Zero azucar
URL:https://safe.axendamazucu.org/evento/12817
END:VEVENT
END:VCALENDAR
