BEGIN:VCALENDAR
VERSION:2.0
PRODID:-//demosphere.net//NONSGML kigkonsult.se iCalcreator 2.22.1//
METHOD:REQUEST
X-WR-TIMEZONE:Europe/Madrid
BEGIN:VEVENT
UID:https://safe.axendamazucu.org/evento/12980
DTSTAMP:20250423T170000Z
DESCRIPTION:más información aquí: https://safe.axendamazucu.org/evento/1298
 0
DTSTART:20250423T170000Z
DTEND:20250423T180000Z
GEO:+43.588312;-5.768384
LOCATION:Carreño\, \nCasa del Pueblo CNT Candás\,Avda.Reina María Cristina 
 24\,Candás
SUMMARY:Salvador Puig Antich\, Ni olvido ni perdón. Acto público de memoria
 \,poemas y canciones
URL:https://safe.axendamazucu.org/evento/12980
END:VEVENT
END:VCALENDAR
