BEGIN:VCALENDAR
VERSION:2.0
PRODID:-//demosphere.net//NONSGML kigkonsult.se iCalcreator 2.22.1//
METHOD:REQUEST
X-WR-TIMEZONE:Europe/Madrid
BEGIN:VEVENT
UID:https://safe.axendamazucu.org/evento/13017
DTSTAMP:20250426T090000Z
DESCRIPTION:más información aquí: https://safe.axendamazucu.org/evento/1301
 7
DTSTART:20250426T090000Z
DTEND:20250426T100000Z
GEO:+43.3603;-5.84338
LOCATION:Oviedo\, \nEl Olivar: C/ Oscura\, nº 1/3 - Oviedo (Asturias)
SUMMARY:Jornada de iniciación a la informática libre
URL:https://safe.axendamazucu.org/evento/13017
END:VEVENT
END:VCALENDAR
