BEGIN:VCALENDAR
VERSION:2.0
PRODID:-//demosphere.net//NONSGML kigkonsult.se iCalcreator 2.22.1//
METHOD:REQUEST
X-WR-TIMEZONE:Europe/Madrid
BEGIN:VEVENT
UID:https://safe.axendamazucu.org/evento/13023
DTSTAMP:20250501T130000Z
DESCRIPTION:más información aquí: https://safe.axendamazucu.org/evento/1302
 3
DTSTART:20250501T130000Z
DTEND:20250501T140000Z
GEO:+43.588312;-5.768384
LOCATION:Carreño\, \nCasa del Pueblo CNT Candás\,Avda.Reina María Cristina 
 24\,Candás
SUMMARY:1° de Mayo en Candás.Comida\, ruta de la memoria y ofrenda floral
URL:https://safe.axendamazucu.org/evento/13023
END:VEVENT
END:VCALENDAR
