BEGIN:VCALENDAR
VERSION:2.0
PRODID:-//demosphere.net//NONSGML kigkonsult.se iCalcreator 2.22.1//
METHOD:REQUEST
X-WR-TIMEZONE:Europe/Madrid
BEGIN:VEVENT
UID:https://safe.axendamazucu.org/evento/13034
DTSTAMP:20250509T170000Z
DESCRIPTION:más información aquí: https://safe.axendamazucu.org/evento/1303
 4
DTSTART:20250509T170000Z
DTEND:20250509T180000Z
GEO:+43.539134;-5.657905
LOCATION:Xixón/Gijón\, \nLa habitación propia \nCelestino Junquera\, 1\, 33
 202 Xixón
SUMMARY:'Tal vez mañana'.Presentación y recital del poemario de Felicidad G
 onzález
URL:https://safe.axendamazucu.org/evento/13034
END:VEVENT
END:VCALENDAR
