BEGIN:VCALENDAR
VERSION:2.0
PRODID:-//demosphere.net//NONSGML kigkonsult.se iCalcreator 2.22.1//
METHOD:REQUEST
X-WR-TIMEZONE:Europe/Madrid
BEGIN:VEVENT
UID:https://safe.axendamazucu.org/evento/13151
DTSTAMP:20250527T170000Z
DESCRIPTION:más información aquí: https://safe.axendamazucu.org/evento/1315
 1
DTSTART:20250527T170000Z
DTEND:20250527T180000Z
GEO:+43.3603;-5.84338
LOCATION:Oviedo\, \nEl Olivar: C/ Oscura\, nº 1/3 - Oviedo (Asturias)
SUMMARY:Un ordenador por dentro: componentes físicos de los ordenadores
URL:https://safe.axendamazucu.org/evento/13151
END:VEVENT
END:VCALENDAR
