BEGIN:VCALENDAR
VERSION:2.0
PRODID:-//demosphere.net//NONSGML kigkonsult.se iCalcreator 2.22.1//
METHOD:REQUEST
X-WR-TIMEZONE:Europe/Madrid
BEGIN:VEVENT
UID:https://safe.axendamazucu.org/evento/13154
DTSTAMP:20250722T170000Z
DESCRIPTION:más información aquí: https://safe.axendamazucu.org/evento/1315
 4
DTSTART:20250722T170000Z
DTEND:20250722T180000Z
GEO:+43.3603;-5.84338
LOCATION:Oviedo\, \nEl Olivar: C/ Oscura\, nº 1/3 - Oviedo (Asturias)
SUMMARY:Derechos de autor\, copyright y licencias
URL:https://safe.axendamazucu.org/evento/13154
END:VEVENT
END:VCALENDAR
