BEGIN:VCALENDAR
VERSION:2.0
PRODID:-//demosphere.net//NONSGML kigkonsult.se iCalcreator 2.22.1//
METHOD:REQUEST
X-WR-TIMEZONE:Europe/Madrid
BEGIN:VEVENT
UID:https://safe.axendamazucu.org/evento/13155
DTSTAMP:20250729T170000Z
DESCRIPTION:más información aquí: https://safe.axendamazucu.org/evento/1315
 5
DTSTART:20250729T170000Z
DTEND:20250729T180000Z
GEO:+43.3603;-5.84338
LOCATION:Oviedo\, \nEl Olivar: C/ Oscura\, nº 1/3 - Oviedo (Asturias)
SUMMARY:Seguridad informática: sumas de comprobación\, firma y cifrado
URL:https://safe.axendamazucu.org/evento/13155
END:VEVENT
END:VCALENDAR
