BEGIN:VCALENDAR
VERSION:2.0
PRODID:-//demosphere.net//NONSGML kigkonsult.se iCalcreator 2.22.1//
METHOD:REQUEST
X-WR-TIMEZONE:Europe/Madrid
BEGIN:VEVENT
UID:https://safe.axendamazucu.org/evento/13249
DTSTAMP:20250615T103000Z
DESCRIPTION:más información aquí: https://safe.axendamazucu.org/evento/1324
 9
DTSTART:20250615T103000Z
DTEND:20250615T113000Z
GEO:+43.539134;-5.657905
LOCATION:Xixón/Gijón\, \nLa habitación propia \nCelestino Junquera\, 1\, 33
 202 Xixón
SUMMARY:Presentación del poemario 'El amor en las criaturas de un día' con 
 su autora
URL:https://safe.axendamazucu.org/evento/13249
END:VEVENT
END:VCALENDAR
